BEGIN:VCALENDAR
VERSION:2.0
PRODID:-//Stras&amp;nd - ECPv6.15.12.2//NONSGML v1.0//EN
CALSCALE:GREGORIAN
METHOD:PUBLISH
X-WR-CALNAME:Stras&amp;nd
X-ORIGINAL-URL:https://strasand.fr
X-WR-CALDESC:Évènements pour Stras&amp;nd
REFRESH-INTERVAL;VALUE=DURATION:PT1H
X-Robots-Tag:noindex
X-PUBLISHED-TTL:PT1H
BEGIN:VTIMEZONE
TZID:Europe/Paris
BEGIN:DAYLIGHT
TZOFFSETFROM:+0100
TZOFFSETTO:+0200
TZNAME:CEST
DTSTART:20250330T010000
END:DAYLIGHT
BEGIN:STANDARD
TZOFFSETFROM:+0200
TZOFFSETTO:+0100
TZNAME:CET
DTSTART:20251026T010000
END:STANDARD
BEGIN:DAYLIGHT
TZOFFSETFROM:+0100
TZOFFSETTO:+0200
TZNAME:CEST
DTSTART:20260329T010000
END:DAYLIGHT
BEGIN:STANDARD
TZOFFSETFROM:+0200
TZOFFSETTO:+0100
TZNAME:CET
DTSTART:20261025T010000
END:STANDARD
BEGIN:DAYLIGHT
TZOFFSETFROM:+0100
TZOFFSETTO:+0200
TZNAME:CEST
DTSTART:20270328T010000
END:DAYLIGHT
BEGIN:STANDARD
TZOFFSETFROM:+0200
TZOFFSETTO:+0100
TZNAME:CET
DTSTART:20271031T010000
END:STANDARD
END:VTIMEZONE
BEGIN:VEVENT
DTSTART;VALUE=DATE:20261014
DTEND;VALUE=DATE:20261015
DTSTAMP:20260424T011143
CREATED:20260422T145551Z
LAST-MODIFIED:20260422T145551Z
UID:8429-1791936000-1792022399@strasand.fr
SUMMARY:7ème Colloque annuel du GIS autisme et TND
DESCRIPTION:Construire ensemble les priorités de recherche scientifique sur les TND à l’horizon 2030. \nCette journée\, ouverte à l’ensemble des parties prenantes de la recherche (chercheurs\, cliniciens\, personnes concernées\, associations\, professionnels)\, permettra d’aborder les grands enjeux scientifiques des TND\, depuis la compréhension de leur mécanismes jusqu’au développement d’interventions personnalisées. À travers présentations et tables rondes\, elle mettra en lumière les priorités de recherche à l’horizon 2030\, en intégrant les dimensions de repérage précoce\, de trajectoires développementales\, du rôle des environnements de vie\, de stratification des populations et d’innovations interventionnelles\, afin de mieux répondre aux besoins des personnes concernées et de leurs aidants. \nOu? Paris \nQuand: mercredi 14 octobre 2026 \nInformations complémentaires: ICI
URL:https://strasand.fr/event/7eme-colloque-annuel-du-gis-autisme-et-tnd/
LOCATION:Paris\, France
ATTACH;FMTTYPE=image/png:https://strasand.fr/wp-content/uploads/2026/04/Octobre-2026.png
END:VEVENT
END:VCALENDAR