BEGIN:VCALENDAR
VERSION:2.0
PRODID:-//Stras&amp;nd - ECPv6.15.12.2//NONSGML v1.0//EN
CALSCALE:GREGORIAN
METHOD:PUBLISH
X-WR-CALNAME:Stras&amp;nd
X-ORIGINAL-URL:https://strasand.fr
X-WR-CALDESC:Évènements pour Stras&amp;nd
REFRESH-INTERVAL;VALUE=DURATION:PT1H
X-Robots-Tag:noindex
X-PUBLISHED-TTL:PT1H
BEGIN:VTIMEZONE
TZID:Europe/Paris
BEGIN:DAYLIGHT
TZOFFSETFROM:+0100
TZOFFSETTO:+0200
TZNAME:CEST
DTSTART:20250330T010000
END:DAYLIGHT
BEGIN:STANDARD
TZOFFSETFROM:+0200
TZOFFSETTO:+0100
TZNAME:CET
DTSTART:20251026T010000
END:STANDARD
BEGIN:DAYLIGHT
TZOFFSETFROM:+0100
TZOFFSETTO:+0200
TZNAME:CEST
DTSTART:20260329T010000
END:DAYLIGHT
BEGIN:STANDARD
TZOFFSETFROM:+0200
TZOFFSETTO:+0100
TZNAME:CET
DTSTART:20261025T010000
END:STANDARD
BEGIN:DAYLIGHT
TZOFFSETFROM:+0100
TZOFFSETTO:+0200
TZNAME:CEST
DTSTART:20270328T010000
END:DAYLIGHT
BEGIN:STANDARD
TZOFFSETFROM:+0200
TZOFFSETTO:+0100
TZNAME:CET
DTSTART:20271031T010000
END:STANDARD
END:VTIMEZONE
BEGIN:VEVENT
DTSTART;TZID=Europe/Paris:20260425T140000
DTEND;TZID=Europe/Paris:20260425T180000
DTSTAMP:20260421T194023
CREATED:20260201T110443Z
LAST-MODIFIED:20260223T140333Z
UID:8120-1777125600-1777140000@strasand.fr
SUMMARY:Conférence TDC (Dyspraxie) au Ciarus de Strasbourg
DESCRIPTION:Rencontres autour du TDC au Ciarus\nL’association DFD Alsace (Dyspraxie France Dys) organise cet évènement pour s’informer et échanger sur le TDC\, Trouble Développemental de la Coordination ou Dyspraxie. \nConférences « vivre avec un TDC: le diagnostic\, la compensation\, la scolarité\, l’emploi\, la vie sociale\, le soutien parental » \nColloque ouvert au familles et aux professionnels \n\n\nQuand: Samedi 25 avril 14h à 18h \nOu: CIARUS 7 rue Finkmatt\, 67000 Strasbourg \n\nInscriptions: ICI
URL:https://strasand.fr/event/conference-tdc-dyspraxie-au-ciarus-de-strasbourg/
LOCATION:Strasbourg\, Grand-Est\, 67200\, France
CATEGORIES:Colloque
ATTACH;FMTTYPE=image/png:https://strasand.fr/wp-content/uploads/2026/02/dfd-µ.png
END:VEVENT
END:VCALENDAR